BEGIN:VCALENDAR
VERSION:2.0
PRODID:-//wp-events-plugin.com//7.2.3.1//EN
TZID:Europe/Berlin
X-WR-TIMEZONE:Europe/Berlin
BEGIN:VEVENT
UID:42@waldflug.de
DTSTART;TZID=Europe/Berlin:20240919T180000
DTEND;TZID=Europe/Berlin:20240919T220000
DTSTAMP:20240904T125059Z
URL:https://www.waldflug.de/events/after-work-am-himmelsglueck-mit-after-w
 ork-fliegen/
SUMMARY:After Work am Himmelsglück mit After Work Fliegen
DESCRIPTION:After Work Fliegen beim Waldflug: Der perfekte Ausklang eines A
 rbeitstages!\nErlebe den Feierabend mal anders! Nach einem langen Tag im B
 üro gibt es nichts Besseres als frische Luft und ein bisschen Abenteuer. 
 Besuche uns nach der Arbeit und genieße die einmalige Gelegenheit\, den T
 ag mit einem unvergesslichen Erlebnis ausklingen zu lassen.\n\nUnser Angeb
 ot für dich:\n\n 	Flyline: Schwebe entspannt durch die Baumwipfel und las
 s den Alltagsstress hinter dir.\n 	Flying Fox: Rase wie Superman durch den
  Wald und spüre den Adrenalinkick.\n\nJetzt Flugtickets buchen! After Wor
 k Fliegen von 17:00-20:00 Uhr. Vor Ort kannst du dir einen exklusiven Raba
 tt von bis zu 50% erwürfeln.\n\nund anschließend den Abend bei der After
  Work Party ausklingen lassen:\n\nWas euch erwartet:\n\n 	ausgelassene Sti
 mmung von 18-22 Uhr\n 	DJ Flow\n 	gemütliche Chillout Area\n 	Bewirtung\n
 \nEintritt frei\n\nWir freuen uns auf euch!
ATTACH;FMTTYPE=image/jpeg:https://www.waldflug.de/wp-content/uploads/2023/
 09/Lightworkart_Pro-14027-scaled.jpg
LOCATION:Aussichtsturm Himmelsglück\, An der L346\, 75328 Schömberg\, Pfo
 rzheim\, Deutschland
X-APPLE-STRUCTURED-LOCATION;VALUE=URI;X-ADDRESS=An der L346\, 75328 Schömb
 erg\, Pforzheim\, Deutschland;X-APPLE-RADIUS=100;X-TITLE=Aussichtsturm Him
 melsglück:geo:0,0
END:VEVENT
BEGIN:VTIMEZONE
TZID:Europe/Berlin
X-LIC-LOCATION:Europe/Berlin
BEGIN:DAYLIGHT
DTSTART:20240331T030000
TZOFFSETFROM:+0100
TZOFFSETTO:+0200
TZNAME:CEST
END:DAYLIGHT
END:VTIMEZONE
END:VCALENDAR